BEGIN:VCALENDAR
VERSION:2.0
PRODID:-//Global School of Learning - GSL - ECPv6.13.2.1//NONSGML v1.0//EN
CALSCALE:GREGORIAN
METHOD:PUBLISH
X-WR-CALNAME:Global School of Learning - GSL
X-ORIGINAL-URL:https://globalschooloflearning.org
X-WR-CALDESC:Events for Global School of Learning - GSL
REFRESH-INTERVAL;VALUE=DURATION:PT1H
X-Robots-Tag:noindex
X-PUBLISHED-TTL:PT1H
BEGIN:VTIMEZONE
TZID:UTC
BEGIN:STANDARD
TZOFFSETFROM:+0000
TZOFFSETTO:+0000
TZNAME:UTC
DTSTART:20220101T000000
END:STANDARD
END:VTIMEZONE
BEGIN:VEVENT
DTSTART;TZID=UTC:20230126T080000
DTEND;TZID=UTC:20230126T170000
DTSTAMP:20260423T153617
CREATED:20221212T163333Z
LAST-MODIFIED:20221212T164301Z
UID:8760-1674720000-1674752400@globalschooloflearning.org
SUMMARY:Republic Day
DESCRIPTION:Republic Day Celiberation
URL:https://globalschooloflearning.org/events/republic-day/
CATEGORIES:Holidays,Indoor Events,Outdoor Events
ATTACH;FMTTYPE=image/jpeg:https://globalschooloflearning.org/wp-content/uploads/2022/12/annual-function-22.jpg
END:VEVENT
BEGIN:VEVENT
DTSTART;TZID=UTC:20221215T090000
DTEND;TZID=UTC:20221215T170000
DTSTAMP:20260423T153617
CREATED:20221212T161612Z
LAST-MODIFIED:20221212T161826Z
UID:8752-1671094800-1671123600@globalschooloflearning.org
SUMMARY:Holi Holiday
DESCRIPTION:Holi Holiday
URL:https://globalschooloflearning.org/events/8752/
CATEGORIES:Holidays
END:VEVENT
BEGIN:VEVENT
DTSTART;TZID=UTC:20221214T080000
DTEND;TZID=UTC:20221214T170000
DTSTAMP:20260423T153617
CREATED:20221212T082357Z
LAST-MODIFIED:20221212T162655Z
UID:8731-1671004800-1671037200@globalschooloflearning.org
SUMMARY:Amrit Mahotsav
DESCRIPTION:Global School of Learning is going to celebirate upcoming Amrit Mahotsav in school campus.
URL:https://globalschooloflearning.org/events/amrit-mahotsav/
LOCATION:GSL\, Jagdishpur Sokha\, P.O. Alia Bulbul\, Bahraich\, BAHRAICH\, U.P.\, 271875\, India
CATEGORIES:Holidays,Indoor Events,Outdoor Events
ATTACH;FMTTYPE=image/jpeg:https://globalschooloflearning.org/wp-content/uploads/2022/12/GSL-ACTIVITIES-015.jpg
END:VEVENT
END:VCALENDAR